Workbook
Name mil: [1]RAW!$A$1

Sheet Home الرئيسية
A2: التجارة الدولية السلعية للمملكة العربية السعودية لشهر أكتوبر 2025م (بيانات أولية)
A3: International trade in goods for Saudi Arabia in October 2025 (preliminary data)
A4: 상품 국제무역 (잠정치)
A5: رقم الجدول | B5: العنوان | C5: Subject | D5: 주제 | E5: Table no.
A6: 1.1 | B6: الصادرات والواردات وحجم التجارة والميزان التجاري، شهري | C6: Exports, imports, trade volume and trade balance, monthly | D6: 무역량과 무역수지, 월간 | E6: 1.1
A7: 1.2 | B7: الصادرات السلعية، شهري | C7: Goods exports, monthly | D7: 상품 수출, 월간 | E7: 1.2
A8: 2 | B8: الصادرات والواردات حسب الأقسام | C8: Exports by section | D8: 부문별 수출 | E8: 2
A9: 3 | B9: الصادرات والواردات حسب مجموعات الدول | C9: Exports by group of countries | D9: 세부지역별 수출 | E9: 3
A10: 4 | B10: الصادرات والواردات حسب الدول | C10: Exports by country | D10: 국가별 수출 | E10: 4
A11: 5 | B11: الصادرات غير البترولية والواردات حسب وسيلة النقل والمنافذ الجمركية | C11: Non-oil exports by mode of transport and customs port | D11: 운송수단별 및 세관항구별 비유류 수출 | E11: 5
A12: 6.1 | B12: الصادرات غير البترولية حسب الدول والأقسام الرئيسة في أكتوبر 2025م | C12: Non-oil exports by country and main section in October 2025 | D12: 국가별 및 주부문별 비유류 수출 | E12: 6.1
A13: 6.2 | B13: الواردات حسب الدول والأقسام الرئيسة في أكتوبر 2025م | C13: Imports by country and main section in October 2025 | D13: 국가별 및 주부문별 수입 | E13: 6.2
A14: 7 | B14: الواردات حسب استخدام المواد وحسب طبيعة المواد | C14: Imports utilization of items and by nature of items | D14: 품목활용별 및 품목성격별 수입 | E14: 7
A15: 8 | B15: نسبة الصادرات غير البترولية للواردات، شهري | C15: Ratio of non-oil exports to imports, monthly | D15: 수입 대비 비유류 수출 비율, 월간 | E15: 8
A16: 9 | B16: التبادل التجاري غير البترولي مع دول مجلس التعاون الخليجي | C16: Non-oil trade with the GCC countries | D16: GCC 국가들과의 비유류 무역 | E16: 9
A17: 10 | B17: كميات الصادرات والواردات بألف طن | C17: Export and import quantities in thousand tons | D17: 수출입 물량, 천톤 | E17: 10
... A24: 15.2 | B24: السلاسل الزمنية للأرقام القياسية لمتوسط كمية الواردات حسب الأقسام الرئيسية | C24: Time series of import average quantity indices by main sections | D24: 주요 부문별 수입 평균 수량 지수 시계열 | E24: 15.1
B25: تقرير المنهجية والجودة لإحصاءات التجارة الدولية | C25: Methodology and quality report of international | D25: 국제 방법론 및 품질 보고서

Sheet 1.1
A2: حجم التجارة والميزان التجاري، شهري، القيمة بالمليون ريال
A3: Trade volume and trade balance, monthly, value in SAR million
A4: 무역량과 무역수지, 월간
A5: 단위: 백만 사우디리얄
A6: السنة | B6: الشهر | C6: Month | D6: الصادرات السلعية Goods exports (A) | E6: التغير على أساس: Change based on: | G6: الواردات السلعية Goods imports (B) | H6: التغير على أساس: Change based on: | J6: حجم التجارة Trade volume (C) = (A + B) | K6: التغير على أساس: Change based on: | M6: الميزان التجاري Trade balance (D) = (A - B) | N6: التغير على أساس: Change based on:
A7: Year | E7: شهري Monthly | F7: سنوي Yearly | H7: شهري Monthly | I7: سنوي Yearly | K7: شهري Monthly | L7: سنوي Yearly | N7: شهري Monthly | O7: سنوي Yearly
D8: 상품 수출 | E8: 전월대비 백분율 변화 | F8: 전년동월대비 백분율 변화 | G8: 상품 수입 | H8: 전월대비 백분율 변화 | I8: 전년동월대비 백분율 변화 | J8: 무역량 | K8: 전월대비 백분율 변화 | L8: 전년동월대비 백분율 변화 | M8: 무역수지 | N8: 전월대비 백분율 변화 | O8: 전년동월대비 백분율 변화
A9: 2017 | B9: يناير | C9: January | D9: 69719.941 | E9: 2.4692511 | F9: 65.101178 | G9: 45353.096 | H9: 12.213847 | I9: -8.2147671 | J9: 115073.04 | K9: 6.1006052 | L9: 25.569645 | M9: 24366.845 | N9: -11.788477 | O9: 439.20212
B10: فبراير | C10: February | D10: 66377.752 | E10: -4.7937353 | F10: 49.65635 | G10: 38864.131 | H10: -14.307656 | I10: -14.248407 | J10: 105241.88 | K10: -8.5434039 | L10: 17.35895 | M10: 27513.621 | N10: 12.914168 | O10: 2941.4025
B11: مارس | C11: March | D11: 71276.077 | E11: 7.3794678 | F11: 32.968891 | G11: 41503.249 | H11: 6.7906266 | I11: -14.189413 | J11: 112779.33 | K11: 7.1620182 | L11: 10.600832 | M11: 29772.828 | N11: 8.2112304 | O11: 468.45971
B12: أبريل | C12: April | D12: 67148.298 | E12: -5.7912534 | F12: 27.547314 | G12: 44124.793 | H12: 6.3164795 | I12: -0.2485862 | J12: 111273.09 | K12: -1.3355586 | L12: 14.855966 | M12: 23023.505 | N12: -22.669403 | O12: 173.72956
B13: مايو | C13: May | D13: 63727.453 | E13: -5.0944632 | F13: 0.84308467 | G13: 47263.031 | H13: 7.1121871 | I13: -3.9615325 | J13: 110990.48 | K13: -0.25397652 | L13: -1.2604067 | M13: 16464.422 | N13: -28.488638 | O13: 17.753873
B14: يونيو | C14: June | D14: 58852.532 | E14: -7.6496412 | F14: -2.0764686 | G14: 35322.48 | H14: -25.264039 | I14: -23.509657 | J14: 94175.012 | K14: -15.150373 | L14: -11.389302 | M14: 23530.051 | N14: 42.914527 | O14: 69.019594
B15: يوليو | C15: July | D15: 64155.732 | E15: 9.0109979 | F15: 11.461633 | G15: 44894.211 | H15: 27.098128 | I15: 20.532609 | J15: 109049.94 | K15: 15.794988 | L15: 15.02539 | M15: 19261.52 | N15: -18.140762 | O15: -5.1719569
B16: أغسطس | C16: August | D16: 68118.803 | E16: 6.1772679 | F16: 12.714838 | G16: 43538.375 | H16: -3.0200693 | I16: -3.4581189 | J16: 111657.18 | K16: 2.3908634 | L16: 5.8035429 | M16: 24580.428 | N16: 27.614163 | O16: 60.271717
B17: سبتمبر | C17: September | D17: 64013.944 | E17: -6.0260295 | F17: 11.404192 | G17: 35420.926 | H17: -18.644355 | I17: 1.3498772 | J17: 99434.87 | K17: -10.946281 | L17: 7.6016891 | M17: 28593.018 | N17: 16.324329 | O17: 27.013311
B18: أكتوبر | C18: October | D18: 76862.456 | E18: 20.071427 | F18: 14.152238 | G18: 44668.278 | H18: 26.107029 | I18: 4.1759355 | J18: 121530.73 | K18: 22.221444 | L18: 10.270946 | M18: 32194.179 | N18: 12.594545 | O18: 31.643609
B19: نوفمبر | C19: November | D19: 80685.506 | E19: 4.9738844 | F19: 31.26197 | G19: 40691.838 | H19: -8.9021553 | I19: -3.8507487 | J19: 121377.34 | K19: -0.12621479 | L19: 16.944449 | M19: 39993.668 | N19: 24.226396 | O19: 108.87115
B20: ديسمبر | C20: December | D20: 80942.794 | E20: 0.31887725 | F20: 18.963776 | G20: 42802.209 | H20: 5.1862261 | I20: 5.902374 | J20: 123745 | K20: 1.9506593 | L20: 14.096404 | M20: 38140.585 | N20: -4.633441 | O20: 38.074462
A21: 2018 | B21: يناير | C21: January | D21: 84238.517 | E21: 4.0716697 | F21: 20.824137 | G21: 42205.096 | H21: -1.3950515 | I21: -6.9410912 | J21: 126443.61 | K21: 2.1807833 | L21: 9.8811818 | M21: 42033.421 | N21: 10.206545 | O21: 72.502514
B22: فبراير | C22: February | D22: 77549.697 | E22: -7.9403348 | F22: 16.830858 | G22: 42044.502 | H22: -0.38050789 | I22: 8.1833078 | J22: 119594.2 | K22: -5.4169711 | L22: 13.637457 | M22: 35505.194 | N22: -15.531038 | O22: 29.045881
B23: مارس | C23: March | D23: 82446.778 | E23: 6.3147656 | F23: 15.672442 | G23: 41806.037 | H23: -0.56717263 | I23: 0.72955377 | J23: 124252.82 | K23: 3.8953534 | L23: 10.173399 | M23: 40640.741 | N23: 14.464212 | O23: 36.502791
B24: أبريل | C24: April | D24: 89650.312 | E24: 8.7371929 | F24: 33.510922 | G24: 47224.032 | H24: 12.959839 | I24: 7.0238051 | J24: 136874.34 | K24: 10.157942 | L24: 23.007587 | M24: 42426.28 | N24: 4.3934705 | O24: 84.273764
B25: مايو | C25: May | D25: 96399.469 | E25: 7.5283137 | F25: 51.268354 | G25: 48527.66 | H25: 2.760517 | I25: 2.6757257 | J25: 144927.13 | K25: 5.8833408 | L25: 30.576176 | M25: 47871.809 | N25: 12.835274 | O25: 190.75912
B26: يونيو | C26: June | D26: 95044.246 | E26: -1.4058411 | F26: 61.495595 | G26: 37268.086 | H26: -23.202383 | I26: 5.508124 | J26: 132312.33 | K26: -8.7042342 | L26: 40.49622 | M26: 57776.159 | N26: 20.689317 | O26: 145.54201
B27: يوليو | C27: July | D27: 98596.849 | E27: 3.7378417 | F27: 53.683617 | G27: 48363.986 | H27: 29.773193 | I27: 7.7287792 | J27: 146960.84 | K27: 11.071155 | L27: 34.764706 | M27: 50232.863 | N27: -13.05607 | O27: 160.79386
B28: أغسطس | C28: August | D28: 92557.858 | E28: -6.1249334 | F28: 35.877105 | G28: 37265.705 | H28: -22.947408 | I28: -14.407222 | J28: 129823.56 | K28: -11.661115 | L28: 16.269786 | M28: 55292.153 | N28: 10.071673 | O28: 124.94382
B29: سبتمبر | C29: September | D29: 97276.933 | E29: 5.0985133 | F29: 51.962098 | G29: 42391.673 | H29: 13.75519 | I29: 19.679743 | J29: 139668.61 | K29: 7.5834024 | L29: 40.462401 | M29: 54885.259 | N29: -0.73589786 | O29: 91.95336
B30: أكتوبر | C30: October | D30: 105900.01 | E30: 8.8644616 | F30: 37.778591 | G30: 46086.49 | H30: 8.7159007 | I30: 3.174987 | J30: 151986.5 | K30: 8.819371 | L30: 25.060134 | M30: 59813.519 | N30: 8.9792055 | O30: 85.789859
B31: نوفمبر | C31: November | D31: 93856.725 | E31: -11.372317 | F31: 16.324145 | G31: 38908.824 | H31: -15.574337 | I31: -4.381748 | J31: 132765.55 | K31: -12.646485 | L31: 9.3824799 | M31: 54947.9 | N31: -8.1346477 | O31: 37.3915
B32: ديسمبر | C32: December | D32: 90383.093 | E32: -3.7009939 | F32: 11.662927 | G32: 41900.598 | H32: 7.6891899 | I32: -2.1064593 | J32: 132283.69 | K32: -0.36293923 | L32: 6.9002287 | M32: 48482.495 | N32: -11.766428 | O32: 27.115238
A33: 2019 | B33: يناير | C33: January | D33: 82804.226 | E33: -8.3852707 | F33: -1.7026545 | G33: 46104.348 | H33: 10.032673 | I33: 9.2388171 | J33: 128908.57 | K33: -2.5514235 | L33: 1.9494545 | M33: 36699.878 | N33: -24.302827 | O33: -12.688814
B34: فبراير | C34: February | D34: 78259.627 | E34: -5.4883663 | F34: 0.91545187 | G34: 41087.701 | H34: -10.881071 | I34: -2.2756874 | J34: 119347.33 | K34: -7.4170753 | L34: -0.20642415 | M34: 37171.926 | N34: 1.2862374 | O34: 4.6943317
B35: مارس | C35: March | D35: 88023.424 | E35: 12.476161 | F35: 6.7639337 | G35: 44999.794 | H35: 9.5213232 | I35: 7.6394618 | J35: 133023.22 | K35: 11.458899 | L35: 7.0585134 | M35: 43023.63 | N35: 15.742268 | O35: 5.8633014
B36: أبريل | C36: April | D36: 88736.283 | E36: 0.80985167 | F36: -1.0195497 | G36: 54200.396 | H36: 20.445877 | I36: 14.77291 | J36: 142936.68 | K36: 7.4524298 | L36: 4.4291239 | M36: 34535.887 | N36: -19.728097 | O36: -18.597891
B37: مايو | C37: May | D37: 86707.674 | E37: -2.28611 | F37: -10.053785 | G37: 54376.124 | H37: 0.32421907 | I37: 12.051816 | J37: 141083.8 | K37: -1.296295 | L37: -2.6519058 | M37: 32331.55 | N37: -6.3827436 | O37: -32.462236
B38: يونيو | C38: June | D38: 77173.053 | E38: -10.996282 | F38: -18.803024 | G38: 43242.092 | H38: -20.475958 | I38: 16.029815 | J38: 120415.14 | K38: -14.649913 | L38: -8.9917448 | M38: 33930.961 | N38: 4.9469078 | O38: -41.271691
B39: يوليو | C39: July | D39: 81901.041 | E39: 6.1264756 | F39: -16.933409 | G39: 54181.396 | H39: 25.297816 | I39: 12.028393 | J39: 136082.44 | K39: 13.011065 | L39: -7.4022425 | M39: 27719.645 | N39: -18.305748 | O39: -44.817709
B40: أغسطس | C40: August | D40: 76642.848 | E40: -6.4201785 | F40: -17.194661 | G40: 47158.918 | H40: -12.961052 | I40: 26.547767 | J40: 123801.77 | K40: -9.0244355 | L40: -4.6384468 | M40: 29483.931 | N40: 6.3647487 | O40: -46.676103
B41: سبتمبر | C41: September | D41: 77329.836 | E41: 0.8963488 | F41: -20.505475 | G41: 44111.172 | H41: -6.4627133 | I41: 4.0562177 | J41: 121441.01 | K41: -1.9068859 | L41: -13.050605 | M41: 33218.664 | N41: 12.667011 | O41: -39.476165
...

Sheet 1.2
A2: الصادرات السلعية، شهري، القيمة بالمليون ريال
A3: Goods exports, monthly, value in SAR million
A4: 상품 수출, 월간
A5: 단위: 백만 사우디리얄
A6: السنة Year | B6: الشهر | C6: Month | D6: الصادرات الوطنية National exports | L6: إعادة تصدير Re-exports | P6: إجمالي الصادرات Total exports
D7: الصادرات غير بترولية Non-oil exports | F7: التغير على أساس: Change based on: | H7: الصادرات البترولية Oil exports | J7: التغير على أساس: Change based on: | N7: التغير على أساس: Change based on: | Q7: التغير على أساس: Change based on:
D8: القيمة Value | E8: إجمالي (%) (%) total | F8: شهري Monthly | G8: سنوي Yearly | H8: القيمة Value | I8: إجمالي (%) (%) total | J8: شهري Monthly | K8: سنوي Yearly | L8: القيمة Value | M8: إجمالي (%) (%) total | N8: شهري Monthly | O8: سنوي Yearly | P8: القيمة Value | Q8: شهري Monthly | R8: سنوي Yearly
D9: 국내생산품 수출 | L9: 재수출 | P9: 수출
D10: 비유류 수출 | H10: 유류 수출
D11: 금액 | E11: 전체수출에서의 비율 | F11: 전월대비 백분율 변화 | G11: 전년동월대비 백분율 변화 | H11: 금액 | I11: 전체수출에서의 비율 | J11: 전월대비 백분율 변화 | K11: 전년동월대비 백분율 변화 | L11: 금액 | M11: 전체수출에서의 비율 | N11: 전월대비 백분율 변화 | O11: 전년동월대비 백분율 변화 | P11: 금액 | Q11: 전월대비 백분율 변화 | R11: 전년동월대비 백분율 변화
A12: 2017 | B12: يناير | C12: January | D12: 12610.247 | E12: 18.087002 | F12: -5.2119142 | G12: 20.666916 | H12: 54917.527 | I12: 78.768752 | J12: 5.3152486 | K12: 87.876096 | L12: 2192.1663 | M12: 3.1442457 | N12: -15.373419 | O12: -13.946299 | P12: 69719.941 | Q12: 2.4692511 | R12: 65.101178
B13: فبراير | C13: February | D13: 11374.134 | E13: 17.135462 | F13: =(D13/D12-1)*100 -> -9.8024499 | G13: 0.60735686 | H13: 53000.595 | I13: 79.846927 | J13: =(H13/H12-1)*100 -> -3.4905658 | K13: 74.800056 | L13: 2003.0224 | M13: 3.0176112 | N13: =(L13/L12-1)*100 -> -8.6281698 | O13: -26.55609 | P13: 66377.752 | Q13: =(P13/P12-1)*100 -> -4.7937353 | R13: 49.65635
B14: مارس | C14: March | D14: 14047.815 | E14: 19.709019 | F14: =(D14/D13-1)*100 -> 23.506676 | G14: 7.459634 | H14: 53953.651 | I14: 75.696719 | J14: =(H14/H13-1)*100 -> 1.7981992 | K14: 43.473507 | L14: 3274.6101 | M14: 4.5942625 | N14: =(L14/L13-1)*100 -> 63.483444 | O14: 11.928633 | P14: 71276.077 | Q14: =(P14/P13-1)*100 -> 7.3794678 | R14: 32.968891
B15: أبريل | C15: April | D15: 12749.741 | E15: 18.987438 | F15: =(D15/D14-1)*100 -> -9.2403971 | G15: 7.9231833 | H15: 51688.394 | I15: 76.976476 | J15: =(H15/H14-1)*100 -> -4.198525 | K15: 34.42474 | L15: 2710.1634 | M15: 4.0360864 | N15: =(L15/L14-1)*100 -> -17.237067 | O15: 13.84712 | P15: 67148.298 | Q15: =(P15/P14-1)*100 -> -5.7912534 | R15: 27.547314
B16: مايو | C16: May | D16: 13449.753 | E16: 21.105116 | F16: =(D16/D15-1)*100 -> 5.4903997 | G16: 0.87395773 | H16: 47075.39 | I16: 73.869875 | J16: =(H16/H15-1)*100 -> -8.9246411 | K16: 0.97289926 | L16: 3202.3099 | M16: 5.0250084 | N16: =(L16/L15-1)*100 -> 18.159294 | O16: -1.1521487 | P16: 63727.453 | Q16: =(P16/P15-1)*100 -> -5.0944632 | R16: 0.84308467
B17: يونيو | C17: June | D17: 11246.158 | E17: 19.109047 | F17: =(D17/D16-1)*100 -> -16.383907 | G17: -8.7454149 | H17: 45606.98 | I17: 77.49366 | J17: =(H17/H16-1)*100 -> -3.1192725 | K17: 0.81870452 | L17: 1999.3931 | M17: 3.3972932 | N17: =(L17/L16-1)*100 -> -37.564035 | O17: -21.28175 | P17: 58852.532 | Q17: =(P17/P16-1)*100 -> -7.6496412 | R17: -2.0764686
B18: يوليو | C18: July | D18: 13814.852 | E18: 21.533309 | F18: =(D18/D17-1)*100 -> 22.840637 | G18: 25.176265 | H18: 47983.612 | I18: 74.792401 | J18: =(H18/H17-1)*100 -> 5.2111146 | K18: 6.3447422 | L18: 2357.2674 | M18: 3.6742896 | N18: =(L18/L17-1)*100 -> 17.899146 | O18: 68.20247 | P18: 64155.732 | Q18: =(P18/P17-1)*100 -> 9.0109979 | R18: 11.461633
B19: أغسطس | C19: August | D19: 15243.525 | E19: 22.377853 | F19: =(D19/D18-1)*100 -> 10.341575 | G19: 11.229662 | H19: 50304.498 | I19: 73.848182 | J19: =(H19/H18-1)*100 -> 4.836829 | K19: 13.453142 | L19: 2570.7802 | M19: 3.7739656 | N19: =(L19/L18-1)*100 -> 9.057642 | O19: 7.5353415 | P19: 68118.803 | Q19: =(P19/P18-1)*100 -> 6.1772679 | R19: 12.714838
B20: سبتمبر | C20: September | D20: 11171.896 | E20: 17.452285 | F20: =(D20/D19-1)*100 -> -26.710551 | G20: -2.3715872 | H20: 51118.808 | I20: 79.855739 | J20: =(H20/H19-1)*100 -> 1.6187627 | K20: 16.379923 | L20: 1723.2403 | M20: 2.6919765 | N20: =(L20/L19-1)*100 -> -32.968198 | O20: -17.690962 | P20: 64013.944 | Q20: =(P20/P19-1)*100 -> -6.0260295 | R20: 11.404192
B21: أكتوبر | C21: October | D21: 14806.489 | E21: 19.263617 | F21: =(D21/D20-1)*100 -> 32.533366 | G21: 12.360577 | H21: 58918.344 | I21: 76.654256 | J21: =(H21/H20-1)*100 -> 15.257664 | K21: 14.375599 | L21: 3137.6227 | M21: 4.0821265 | N21: =(L21/L20-1)*100 -> 82.076912 | O21: 18.732557 | P21: 76862.456 | Q21: =(P21/P20-1)*100 -> 20.071427 | R21: 14.152238
B22: نوفمبر | C22: November | D22: 15272.584 | E22: 18.928535 | F22: =(D22/D21-1)*100 -> 3.1479082 | G22: 18.520974 | H22: 61724.833 | I22: 76.500521 | J22: =(H22/H21-1)*100 -> 4.7633527 | K22: 33.54698 | L22: 3688.0892 | M22: 4.5709439 | N22: =(L22/L21-1)*100 -> 17.544062 | O22: 56.041903 | P22: 80685.506 | Q22: =(P22/P21-1)*100 -> 4.9738844 | R22: 31.26197
B23: ديسمبر | C23: December | D23: 15345.074 | E23: 18.957924 | F23: =(D23/D22-1)*100 -> 0.47463784 | G23: 15.345092 | H23: 62109.65 | I23: 76.732773 | J23: =(H23/H22-1)*100 -> 0.6234404 | K23: 19.10757 | L23: 3488.0699 | M23: 4.3093026 | N23: =(L23/L22-1)*100 -> -5.4233851 | O23: 34.653759 | P23: 80942.794 | Q23: =(P23/P22-1)*100 -> 0.31887725 | R23: 18.963776
A24: 2018 | B24: يناير | C24: January | D24: 15836.21 | E24: 18.799251 | F24: =(D24/D23-1)*100 -> 3.2006154 | G24: =(D24/D12-1)*100 -> 25.582075 | H24: 66197.455 | I24: 78.583358 | J24: =(H24/H23-1)*100 -> 6.5815938 | K24: =(H24/H12-1)*100 -> 20.539759 | L24: 2204.8515 | M24: 2.6173911 | N24: =(L24/L23-1)*100 -> -36.788782 | O24: =(L24/L12-1)*100 -> 0.5786603 | P24: 84238.517 | Q24: =(P24/P23-1)*100 -> 4.0716697 | R24: =(P24/P12-1)*100 -> 20.824137
B25: فبراير | C25: February | D25: 16249.775 | E25: 20.954015 | F25: =(D25/D24-1)*100 -> 2.6115116 | G25: =(D25/D13-1)*100 -> 42.866037 | H25: 59262.584 | I25: 76.418846 | J25: =(H25/H24-1)*100 -> -10.47604 | K25: =(H25/H13-1)*100 -> 11.81494 | L25: 2037.3383 | M25: 2.627139 | N25: =(L25/L24-1)*100 -> -7.5974811 | O25: =(L25/L13-1)*100 -> 1.7132035 | P25: 77549.697 | Q25: =(P25/P24-1)*100 -> -7.9403348 | R25: =(P25/P13-1)*100 -> 16.830858
B26: مارس | C26: March | D26: 17335.486 | E26: 21.026275 | F26: =(D26/D25-1)*100 -> 6.6813923 | G26: =(D26/D14-1)*100 -> 23.403432 | H26: 62187.505 | I26: 75.427453 | J26: =(H26/H25-1)*100 -> 4.9355281 | K26: =(H26/H14-1)*100 -> 15.260976 | L26: 2923.7872 | M26: 3.5462723 | N26: =(L26/L25-1)*100 -> 43.510149 | O26: =(L26/L14-1)*100 -> -10.713424 | P26: 82446.778 | Q26: =(P26/P25-1)*100 -> 6.3147656 | R26: =(P26/P14-1)*100 -> 15.672442
B27: أبريل | C27: April | D27: 17262.062 | E27: 19.254882 | F27: =(D27/D26-1)*100 -> -0.42355033 | G27: =(D27/D15-1)*100 -> 35.391466 | H27: 68776.56 | I27: 76.716476 | J27: =(H27/H26-1)*100 -> 10.595465 | K27: =(H27/H15-1)*100 -> 33.059968 | L27: 3611.6905 | M27: 4.0286424 | N27: =(L27/L26-1)*100 -> 23.527817 | O27: =(L27/L15-1)*100 -> 33.26468 | P27: 89650.312 | Q27: =(P27/P26-1)*100 -> 8.7371929 | R27: =(P27/P15-1)*100 -> 33.510922
B28: مايو | C28: May | D28: 18866.744 | E28: 19.571418 | F28: =(D28/D27-1)*100 -> 9.296004 | G28: =(D28/D16-1)*100 -> 40.275762 | H28: 74400.369 | I28: 77.179231 | J28: =(H28/H27-1)*100 -> 8.1769267 | K28: =(H28/H16-1)*100 -> 58.045146 | L28: 3132.3565 | M28: 3.2493503 | N28: =(L28/L27-1)*100 -> -13.271737 | O28: =(L28/L16-1)*100 -> -2.1844678 | P28: 96399.469 | Q28: =(P28/P27-1)*100 -> 7.5283137 | R28: =(P28/P16-1)*100 -> 51.268354
B29: يونيو | C29: June | D29: 15977.674 | E29: 16.810775 | F29: =(D29/D28-1)*100 -> -15.313027 | G29: =(D29/D17-1)*100 -> 42.072288 | H29: 77159.593 | I29: 81.182814 | J29: =(H29/H28-1)*100 -> 3.7086164 | K29: =(H29/H17-1)*100 -> 69.183736 | L29: 1906.9784 | M29: 2.0064112 | N29: =(L29/L28-1)*100 -> -39.120006 | O29: =(L29/L17-1)*100 -> -4.622135 | P29: 95044.246 | Q29: =(P29/P28-1)*100 -> -1.4058411 | R29: =(P29/P17-1)*100 -> 61.495595
B30: يوليو | C30: July | D30: 18489.068 | E30: 18.75219 | F30: =(D30/D29-1)*100 -> 15.718146 | G30: =(D30/D18-1)*100 -> 33.834716 | H30: 77055.971 | I30: 78.15257 | J30: =(H30/H29-1)*100 -> -0.13429558 | K30: =(H30/H18-1)*100 -> 60.5881 | L30: 3051.8098 | M30: 3.0952407 | N30: =(L30/L29-1)*100 -> 60.033787 | O30: =(L30/L18-1)*100 -> 29.46388 | P30: 98596.849 | Q30: =(P30/P29-1)*100 -> 3.7378417 | R30: =(P30/P18-1)*100 -> 53.683617
B31: أغسطس | C31: August | D31: 14684.771 | E31: 15.865505 | F31: =(D31/D30-1)*100 -> -20.575926 | G31: =(D31/D19-1)*100 -> -3.6655188 | H31: 75918.929 | I31: 82.023213 | J31: =(H31/H30-1)*100 -> -1.475606 | K31: =(H31/H19-1)*100 -> 50.91877 | L31: 1954.1579 | M31: 2.1112825 | N31: =(L31/L30-1)*100 -> -35.967245 | O31: =(L31/L19-1)*100 -> -23.985805 | P31: 92557.858 | Q31: =(P31/P30-1)*100 -> -6.1249334 | R31: =(P31/P19-1)*100 -> 35.877105
B32: سبتمبر | C32: September | D32: 16366.665 | E32: 16.824816 | F32: =(D32/D31-1)*100 -> 11.45332 | G32: =(D32/D20-1)*100 -> 46.498547 | H32: 77966.245 | I32: 80.14875 | J32: =(H32/H31-1)*100 -> 2.6967138 | K32: =(H32/H20-1)*100 -> 52.519685 | L32: 2944.0226 | M32: 3.0264344 | N32: =(L32/L31-1)*100 -> 50.654285 | O32: =(L32/L20-1)*100 -> 70.842254 | P32: 97276.933 | Q32: =(P32/P31-1)*100 -> 5.0985133 | R32: =(P32/P20-1)*100 -> 51.962098
B33: أكتوبر | C33: October | D33: 17162.442 | E33: 16.20627 | F33: =(D33/D32-1)*100 -> 4.8621806 | G33: =(D33/D21-1)*100 -> 15.911619 | H33: 85877.322 | I33: 81.092837 | J33: =(H33/H32-1)*100 -> 10.146797 | K33: =(H33/H21-1)*100 -> 45.75651 | L33: 2860.2453 | M33: 2.7008924 | N33: =(L33/L32-1)*100 -> -2.8456746 | O33: =(L33/L21-1)*100 -> -8.8403698 | P33: 105900.01 | Q33: =(P33/P32-1)*100 -> 8.8644616 | R33: =(P33/P21-1)*100 -> 37.778591
B34: نوفمبر | C34: November | D34: 17311.102 | E34: 18.444179 | F34: =(D34/D33-1)*100 -> 0.8661949 | G34: =(D34/D22-1)*100 -> 13.347563 | H34: 73665.271 | I34: 78.486939 | J34: =(H34/H33-1)*100 -> -14.220345 | K34: =(H34/H22-1)*100 -> 19.344626 | L34: 2880.3522 | M34: 3.0688821 | N34: =(L34/L33-1)*100 -> 0.70297856 | O34: =(L34/L22-1)*100 -> -21.901233 | P34: 93856.725 | Q34: =(P34/P33-1)*100 -> -11.372317 | R34: =(P34/P22-1)*100 -> 16.324145
B35: ديسمبر | C35: December | D35: 18227.505 | E35: 20.166941 | F35: =(D35/D34-1)*100 -> 5.2937334 | G35: =(D35/D23-1)*100 -> 18.784086 | H35: 69974.598 | I35: 77.420008 | J35: =(H35/H34-1)*100 -> -5.0100582 | K35: =(H35/H23-1)*100 -> 12.663004 | L35: 2180.9899 | M35: 2.4130507 | N35: =(L35/L34-1)*100 -> -24.280445 | O35: =(L35/L23-1)*100 -> -37.472874 | P35: 90383.093 | Q35: =(P35/P34-1)*100 -> -3.7009939 | R35: =(P35/P23-1)*100 -> 11.662927
A36: 2019 | B36: يناير | C36: January | D36: 16809.362 | E36: 20.300126 | F36: =(D36/D35-1)*100 -> -7.7802385 | G36: =(D36/D24-1)*100 -> 6.1451045 | H36: 63404.695 | I36: 76.57181 | J36: =(H36/H35-1)*100 -> -9.3889827 | K36: =(H36/H24-1)*100 -> -4.2188333 | L36: 2590.1692 | M36: 3.128064 | N36: =(L36/L35-1)*100 -> 18.761174 | O36: =(L36/L24-1)*100 -> 17.475902 | P36: 82804.226 | Q36: =(P36/P35-1)*100 -> -8.3852707 | R36: =(P36/P24-1)*100 -> -1.7026545
B37: فبراير | C37: February | D37: 15012.305 | E37: 19.182694 | F37: =(D37/D36-1)*100 -> -10.690812 | G37: =(D37/D25-1)*100 -> -7.6153065 | H37: 59728.441 | I37: 76.320886 | J37: =(H37/H36-1)*100 -> -5.798079 | K37: =(H37/H25-1)*100 -> 0.78608961 | L37: 3518.8816 | M37: 4.4964201 | N37: =(L37/L36-1)*100 -> 35.855281 | O37: =(L37/L25-1)*100 -> 72.719553 | P37: 78259.627 | Q37: =(P37/P36-1)*100 -> -5.4883663 | R37: =(P37/P25-1)*100 -> 0.91545187
B38: مارس | C38: March | D38: 16799.567 | E38: 19.085337 | F38: =(D38/D37-1)*100 -> 11.905316 | G38: =(D38/D26-1)*100 -> -3.0914565 | H38: 66714.561 | I38: 75.791827 | J38: =(H38/H37-1)*100 -> 11.696472 | K38: =(H38/H26-1)*100 -> 7.2796868 | L38: 4509.296 | M38: 5.1228364 | N38: =(L38/L37-1)*100 -> 28.145716 | O38: =(L38/L26-1)*100 -> 54.227913 | P38: 88023.424 | Q38: =(P38/P37-1)*100 -> 12.476161 | R38: =(P38/P26-1)*100 -> 6.7639337
B39: أبريل | C39: April | D39: 16564.169 | E39: 18.666738 | F39: =(D39/D38-1)*100 -> -1.4012142 | G39: =(D39/D27-1)*100 -> -4.0429263 | H39: 68173.435 | I39: 76.827013 | J39: =(H39/H38-1)*100 -> 2.1867413 | K39: =(H39/H27-1)*100 -> -0.87693373 | L39: 3998.6783 | M39: 4.5062495 | N39: =(L39/L38-1)*100 -> -11.323669 | O39: =(L39/L27-1)*100 -> 10.714865 | P39: 88736.283 | Q39: =(P39/P38-1)*100 -> 0.80985167 | R39: =(P39/P27-1)*100 -> -1.0195497
B40: مايو | C40: May | D40: 15781.071 | E40: 18.200317 | F40: =(D40/D39-1)*100 -> -4.7276621 | G40: =(D40/D28-1)*100 -> -16.355087 | H40: 68142.849 | I40: 78.589179 | J40: =(H40/H39-1)*100 -> -0.044865188 | K40: =(H40/H28-1)*100 -> -8.4106033 | L40: 2783.7533 | M40: 3.210504 | N40: =(L40/L39-1)*100 -> -30.383164 | O40: =(L40/L28-1)*100 -> -11.129102 | P40: 86707.674 | Q40: =(P40/P39-1)*100 -> -2.28611 | R40: =(P40/P28-1)*100 -> -10.053785
B41: يونيو | C41: June | D41: 14626.598 | E41: 18.952985 | F41: =(D41/D40-1)*100 -> -7.3155594 | G41: =(D41/D29-1)*100 -> -8.456027 | H41: 59505.334 | I41: 77.106362 | J41: =(H41/H40-1)*100 -> -12.675601 | K41: =(H41/H29-1)*100 -> -22.880188 | L41: 3041.1219 | M41: 3.9406526 | N41: =(L41/L40-1)*100 -> 9.2453811 | O41: =(L41/L29-1)*100 -> 59.473325 | P41: 77173.053 | Q41: =(P41/P40-1)*100 -> -10.996282 | R41: =(P41/P29-1)*100 -> -18.803024
...

Sheet 2
A2: الصادرات والواردات حسب الأقسام، القيمة بالمليون ريال
A3: Exports and imports by section, value in SAR million
A4: 부문별 수출입
A5: 단위: 백만 사우디리얄
C6: صادرات Export | H6: واردات Import | M6: Section description | N6: 부문 설명
C7: 수출 | H7: 수입
A8: رقم القسم | B8: وصف القسم | C8: أكتوبر Oct | D8: سبتمبر Sep | E8: أكتوبر Oct | F8: التغير على أساس: Change based on: | H8: أكتوبر Oct | I8: سبتمبر Sep | J8: أكتوبر Oct | K8: التغير على أساس: Change based on: | O8: Sec. no
C9: 2024 | D9: 2025* | E9: 2025* | F9: شهري Monthly | G9: سنوي Yearly | H9: 2024 | I9: 2025* | J9: 2025* | K9: شهري Monthly | L9: سنوي Yearly
F10: 전월대비 백분율 변화 | G10: 전년동월대비 백분율 변화 | K10: 전월대비 백분율 변화 | L10: 전년동월대비 백분율 변화
A11: 1 | B11: الحيوانات ومنتجاتها | C11: 736.5012 | D11: 704.48081 | E11: 743.69657 | F11: 5.5666183 | G11: 0.97696691 | H11: 2292.0858 | I11: 2049.1626 | J11: 2265.5758 | K11: 10.561058 | L11: -1.1565883 | M11: Animals and their products | N11: 동물 및 관련 제품 | O11: 1
A12: 2 | B12: منتجات نباتية | C12: 364.44094 | D12: 351.39406 | E12: 385.64211 | F12: 9.7463348 | G12: 5.8174479 | H12: 3302.9441 | I12: 3072.7561 | J12: 3275.5279 | K12: 6.5990196 | L12: -0.83005403 | M12: Plant Products | N12: 식물성 제품 | O12: 2
A13: 3 | B13: دهون وزيوت وشموع حيوانية أو نباتية ومنتجاتها | C13: 113.21486 | D13: 164.47009 | E13: 110.01595 | F13: -33.108838 | G13: -2.8255213 | H13: 534.66607 | I13: 550.55041 | J13: 548.75746 | K13: -0.32566518 | L13: 2.635551 | M13: Animal and vegetable fats, oils, waxex and their products | N13: 동물성 및 식물성 지방, 오일, 왁스 및 관련 제품 | O13: 3
A14: 4 | B14: منتجات صناعة الأغذية، مشروبات وتبغ | C14: 937.23681 | D14: 983.69801 | E14: 1021.364 | F14: 3.8290227 | G14: 8.97609 | H14: 3411.8837 | I14: 2979.7509 | J14: 2871.0474 | K14: -3.6480749 | L14: -15.851546 | M14: Prepared foodstuffs, beverages and tobacco | N14: 조리 식품, 음료 및 담배 | O14: 4
A15: 5 | B15: المنتجات المعدنية | C15: 67942.55 | D15: 69796.978 | E15: 70567.632 | F15: 1.104136 | G15: 3.8636796 | H15: 4730.0377 | I15: 4235.5718 | J15: 3590.5744 | K15: -15.228107 | L15: -24.089941 | M15: Mineral products | N15: 광물 제품 | O15: 5
A16: 6 | B16: منتجات الصناعات الكيماوية | C16: 6906.0306 | D16: 7268.7428 | E16: 6561.6388 | F16: -9.72801 | G16: -4.9868265 | H16: 6632.7051 | I16: 6703.0202 | J16: 6575.4992 | K16: -1.902441 | L16: -0.86248168 | M16: Products of the chemical industries | N16: 화학 공업 제품 | O16: 6
A17: 7 | B17: لدائن ومطاط ومصنوعاتها | C17: 6024.181 | D17: 6495.7684 | E17: 6106.7627 | F17: -5.9886013 | G17: 1.3708376 | H17: 2628.9908 | I17: 2328.6236 | J17: 2475.3676 | K17: 6.3017489 | L17: -5.8434302 | M17: Plastics, rubber and their articles | N17: 플라스틱, 고무 및 관련 제품 | O17: 7
A18: 8 | B18: صلال وجلود ومصنوعاتها، حقائب وما يماثلها | C18: 13.435022 | D18: 17.16624 | E18: 25.062739 | F18: 46.000167 | G18: 86.547808 | H18: 188.38054 | I18: 169.10313 | J18: 180.52984 | K18: 6.7572408 | L18: -4.1674687 | M18: Skins, leather and their articles, handbags and similar | N18: 피혁 및 관련 제품, 핸드백 및 유사 제품 | O18: 8
A19: 9 | B19: خشب وفلين ومواد ضفر ومصنوعاتها | C19: 40.104069 | D19: 37.599603 | E19: 43.939294 | F19: 16.861058 | G19: 9.5631817 | H19: 597.19556 | I19: 430.27799 | J19: 511.01939 | K19: 18.764938 | L19: -14.430143 | M19: Wood, cork, plaiting materials and their articles | N19: 목재, 코르크, 조물재 및 관련 제품 | O19: 9
A20: 10 | B20: ورق وورق مقوى ومصنوعاتهما | C20: 227.52549 | D20: 237.45591 | E20: 205.79372 | F20: -13.333924 | G20: -9.551357 | H20: 710.79101 | I20: 704.25347 | J20: 625.15002 | K20: -11.232242 | L20: -12.048688 | M20: Paper, paperboard and their articles | N20: 종이, 판지 및 관련 제품 | O20: 10
A21: 11 | B21: مواد نسجية ومصنوعاتها | C21: 204.29324 | D21: 180.57005 | E21: 219.84351 | F21: 21.749704 | G21: 7.6117363 | H21: 2150.469 | I21: 2060.6697 | J21: 2121.0442 | K21: 2.9298523 | L21: -1.3682944 | M21: Textiles and their articles | N21: 직물 및 관련 제품 | O21: 11
A22: 12 | B22: أحذية، أغطية رأس، مظلات وعصي | C22: 6.108776 | D22: 8.665337 | E22: 17.816483 | F22: 105.60635 | G22: 191.65389 | H22: 398.28082 | I22: 402.77171 | J22: 389.90523 | K22: -3.1944846 | L22: -2.1029358 | M22: Footwear, headgear, umbrellas, sticks | N22: 신발, 모자, 우산 및 지팡이 | O22: 12
... A31: 21 | B31: تحف فنية وقطع أثرية | C31: 55.271571 | D31: 121.18474 | E31: 112.94961 | F31: -6.7955159 | G31: 104.35389 | H31: 1476.0853 | I31: 1358.8487 | J31: 1442.3291 | K31: 6.1434686 | L31: -2.2868759 | M31: Works of arts and antiqes | N31: 예술품 및 골동품 | O31: 21
B32: الإجمالي | C32: 93027.053 | D32: 101820.54 | E32: 103987.65 | F32: 2.1283598 | G32: 11.782161 | H32: 76801.991 | I32: 77390.437 | J32: 80078.643 | K32: 3.473564 | L32: 4.2663634 | M32: Total
A33: (*) بيانات أولية | O33: (*) Preliminary data
O34: (*) 잠정치

Sheet 3
A2: الصادرات والواردات حسب مجموعات الدول، القيمة بالمليون ريال
A3: Exports and imports by group of countries, value in SAR million
A4: 세부지역별 수출입
A5: 단위: 백만 사우디리얄
C6: صادرات Export | H6: واردات Import
C7: 수출 | H7: 수입
A8: رمز | B8: مجموعات الدول | C8: أكتوبر Oct | D8: سبتمبر Sep | E8: أكتوبر Oct | F8: التغير على أساس: Change based on: | H8: أكتوبر Oct | I8: سبتمبر Sep | J8: أكتوبر Oct | K8: التغير على أساس: Change based on: | M8: Country groups | N8: Code
C9: 2024 | D9: 2025* | E9: 2025* | F9: شهري Monthly | G9: سنوي Yearly | H9: 2024 | I9: 2025* | J9: 2025* | K9: شهري Monthly | L9: سنوي Yearly
F10: 전월대비 백분율 변화 | G10: 전년동월대비 백분율 변화 | K10: 전월대비 백분율 변화 | L10: 전년동월대비 백분율 변화 | M10: 세부지역
B11: مجموعات جغرافية | M11: Geographical groups
B12: أفريقيا: | C12: 7574.0126 | D12: 7641.341 | E12: 7681.4663 | F12: 0.52510807 | G12: 1.4187158 | H12: 4184.7622 | I12: 3138.7025 | J12: 4295.6214 | K12: 36.859783 | L12: 2.649115 | M12: Africa:
A13: 1 | B13: شمال أفريقيا | C13: 4538.4664 | D13: 3967.7324 | E13: 5231.2822 | F13: 31.84564 | G13: 15.265416 | H13: 2922.0917 | I13: 2085.6789 | J13: 2508.935 | K13: 20.293446 | L13: -14.139074 | M13: Northern Africa | N13: 1
B14: أفريقيا جنوب الصحراء الكبرى: | M14: Sub-Saharan Africa:
A15: 2 | B15: شرق أفريقيا | C15: 1749.3342 | D15: 1550.838 | E15: 1163.5754 | F15: -24.971182 | G15: -33.484667 | H15: 408.42956 | I15: 322.96917 | J15: 326.84329 | K15: 1.1995346 | L15: -19.975602 | M15: Eastern Africa | N15: 2
A16: 3 | B16: أفريقيا الوسطى | C16: 53.717837 | D16: 55.930842 | E16: 40.176946 | F16: -28.166742 | G16: -25.207439 | H16: 422.51026 | I16: 444.04991 | J16: 600.98123 | K16: 35.340919 | L16: 42.240625 | M16: Middle Africa | N16: 3
A17: 4 | B17: أفريقيا الجنوبية | C17: 875.11277 | D17: 834.66275 | E17: 693.84542 | F17: -16.871165 | G17: -20.713599 | H17: 419.54057 | I17: 263.62732 | J17: 843.16227 | K17: 219.83115 | L17: 100.97276 | M17: Southern Africa | N17: 4
A18: 5 | B18: غرب أفريقيا | C18: 357.38138 | D18: 1232.1769 | E18: 552.58628 | F18: -55.153659 | G18: 54.620891 | H18: 12.190153 | I18: 22.377215 | J18: 15.699607 | K18: -29.841104 | L18: 28.789253 | M18: Western Africa | N18: 5
B19: أمريكا: | C19: 4055.3215 | D19: 5800.2736 | E19: 7357.22 | F19: 26.842637 | G19: 81.421376 | H19: 10394.587 | I19: 9531.2369 | J19: 9516.7558 | K19: -0.15193315 | L19: -8.4450838 | M19: Americas:
A20: 6 | B20: أمريكا الشمالية | C20: 3006.3623 | D20: 3495.5734 | E20: 6236.0554 | F20: 78.398641 | G20: 107.42861 | H20: 7367.368 | I20: 7151.865 | J20: 7220.6781 | K20: 0.96216947 | L20: -1.9910759 | M20: Northern America | N20: 6
B21: أمريكا اللاتينية والكاريبي: | M21: Latin America and the Caribbean:
A22: 7 | B22: الكاريبي | C22: 8.870194 | D22: 723.45481 | E22: 9.783923 | F22: -98.647611 | G22: 10.301116 | H22: 198.6882 | I22: 76.813053 | J22: 39.504641 | K22: -48.570406 | L22: -80.117269 | M22: Caribbean | N22: 7
A23: 8 | B23: أمريكا الوسطى | C23: 33.904799 | D23: 34.191335 | E23: 20.5006 | F23: -40.041534 | G23: -39.534813 | H23: 630.78007 | I23: 557.42893 | J23: 449.74123 | K23: -19.318643 | L23: -28.700787 | M23: Central America | N23: 8
A24: 9 | B24: أمريكا الجنوبية | C24: 1006.1842 | D24: 1547.0541 | E24: 1090.8801 | F24: -29.486624 | G24: 8.4175299 | H24: 2197.7511 | I24: 1745.1299 | J24: 1806.8318 | K24: 3.5356651 | L24: -17.787243 | M24: South America | N24: 9
B25: آسيا: | C25: 68265.049 | D25: 72531.758 | E25: 76059.62 | F25: 4.8638871 | G25: 11.4181 | H25: 42411.301 | I25: 45238.859 | J25: 44357.096 | K25: -1.949129 | L25: 4.5879161 | M25: Asia:
A26: 10 | B26: آسيا الوسطى | C26: 0.055058 | D26: 11.896975 | E26: 8.095607 | F26: -31.952391 | G26: 14603.78 | H26: 162.23213 | I26: 115.32995 | J26: 104.97193 | K26: -8.981208 | L26: -35.295226 | M26: Central Asia | N26: 10
A27: 11 | B27: شرق اسيا | C27: 34268.758 | D27: 31326.103 | E27: 32563.57 | F27: 3.950273 | G27: -4.9759255 | H27: 25220.019 | I27: 27262.186 | J27: 25774.145 | K27: -5.458259 | L27: 2.197166 | M27: Eastern Asia | N27: 11
A28: 12 | B28: جنوب شرق آسيا | C28: 8520.5368 | D28: 8081.4035 | E28: 9204.5235 | F28: 13.897585 | G28: 8.0275071 | H28: 4400.7168 | I28: 5406.5275 | J28: 5188.3304 | K28: -4.0358094 | L28: 17.897392 | M28: South-eastern Asia | N28: 12
A29: 13 | B29: جنوب آسيا | C29: 9874.4088 | D29: 11821.801 | E29: 12069.584 | F29: 2.0959785 | G29: 22.230949 | H29: 4742.7994 | I29: 3948.2786 | J29: 4312.7869 | K29: 9.2320814 | L29: -9.0666395 | M29: Southern Asia | N29: 13
A30: 14 | B30: غرب آسيا | C30: 15601.291 | D30: 21290.553 | E30: 22213.848 | F30: 4.3366429 | G30: 42.38468 | H30: 7885.533 | I30: 8506.5376 | J30: 8976.8614 | K30: 5.5289695 | L30: 13.839628 | M30: Western Asia | N30: 14
B31: أوروبا: | C31: 12994.915 | D31: 15605.617 | E31: 12734.332 | F31: -18.399048 | G31: -2.0052682 | H31: 19188.984 | I31: 19034.141 | J31: 21342.271 | K31: 12.126266 | L31: 11.221476 | M31: Europe:
A32: 15 | B32: أوروبا الشرقية | C32: 3486.8135 | D32: 4604.3743 | E32: 3949.6444 | F32: -14.219737 | G32: 13.27375 | H32: 2624.4066 | I32: 2699.8095 | J32: 2591.5675 | K32: -4.0092437 | L32: -1.2512946 | M32: Eastern Europe | N32: 15
A33: 16 | B33: أوروبا الشمالية | C33: 564.56271 | D33: 501.92227 | E33: 434.14749 | F33: -13.503044 | G33: -23.100219 | H33: 3774.8511 | I33: 3199.1792 | J33: 3284.6077 | K33: 2.6703283 | L33: -12.98709 | M33: Northern Europe | N33: 16
A34: 17 | B34: أوروبا الجنوبية | C34: 3993.9002 | D34: 5830.6916 | E34: 5047.6368 | F34: -13.429879 | G34: 26.383647 | H34: 4393.8475 | I34: 3937.8207 | J34: 3603.5755 | K34: -8.4880753 | L34: -17.985876 | M34: Southern Europe | N34: 17
A35: 18 | B35: أوروبا الغربية | C35: 4949.6382 | D35: 4668.6284 | E35: 3302.9031 | F35: -29.253245 | G35: -33.269808 | H35: 8395.879 | I35: 9197.3315 | J35: 11862.521 | K35: 28.977852 | L35: 41.2898 | M35: Western Europe | N35: 18
A36: 19 | B36: أوقيانوسيا | C36: 137.75542 | D36: 241.55464 | E36: 155.01244 | F36: -35.827176 | G36: 12.527289 | H36: 514.02637 | I36: 446.55997 | J36: 565.86277 | K36: 26.715964 | L36: 10.084386 | M36: Oceania | N36: 19
A37: 20 | B37: مجموعات أخرى | C37: 0 | D37: 0 | E37: 0 | F37: - | G37: - | H37: 108.33073 | I37: 0.937718 | J37: 1.036618 | K37: 10.546881 | L37: -99.043099 | M37: Other Countries groups | N37: 20
B38: الإجمالي | C38: 93027.053 | D38: 101820.54 | E38: 103987.65 | F38: 2.1283598 | G38: 11.782161 | H38: 76801.991 | I38: 77390.437 | J38: 80078.643 | K38: 3.473564 | L38: 4.2663634 | M38: Total
B39: مجموعات عامة | M39: General groups
A40: 1 | B40: مجلس التعاون لدول الخليج العربية | C40: 12276.703 | D40: 16667.353 | E40: 18478.637 | F40: 10.867256 | G40: 50.517912 | H40: 6246.0803 | I40: 6617.9007 | J40: 7109.403 | K40: 7.4268609 | L40: 13.82183 | M40: Gulf coop. Council for the arab states (GCC) | N40: 1
A41: 2 | B41: جامعة الدول العربية | C41: 19672.599 | D41: 23799.691 | E41: 26758.744 | F41: 12.433154 | G41: 36.020381 | H41: 9876.047 | I41: 9409.869 | J41: 10262.377 | K41: 9.0597213 | L41: 3.9117868 | M41: League of arab states | N41: 2
...

Sheet 4
A2: الصادرات والواردات حسب الدول، القيمة بالمليون ريال
A3: Exports and imports by country, value in SAR million
A4: 국가별 수출입
A5: 단위: 백만 사우디리얄
C6: صادرات Export | H6: واردات Import
C7: 수출 | H7: 수입
A8: الترتيب حسب الحجم التجاري | B8: الدول | C8: أكتوبر Oct | D8: سبتمبر Sep | E8: أكتوبر Oct | F8: التغير على أساس: Change based on: | H8: أكتوبر Oct | I8: سبتمبر Sep | J8: أكتوبر Oct | K8: التغير على أساس: Change based on: | M8: Country | N8: Rank by trading volume
C9: 2024 | D9: 2025* | E9: 2025* | F9: شهري Monthly | G9: سنوي Yearly | H9: 2024 | I9: 2025* | J9: 2025* | K9: شهري Monthly | L9: سنوي Yearly
F10: 전월대비 백분율 변화 | G10: 전년동월대비 백분율 변화 | K10: 전월대비 백분율 변화 | L10: 전년동월대비 백분율 변화
A11: 1 | B11: الصين | C11: 15008.889 | D11: 14840.687 | E11: 14680.904 | F11: -1.0766513 | G11: -2.1852724 | H11: 19433.634 | I11: 22457.746 | J11: 19847.315 | K11: -11.623746 | L11: 2.1286859 | M11: China | N11: 1
A12: 2 | B12: الإمارات العربية المتحدة | C12: 7172.3368 | D12: 10884.326 | E12: 11377.938 | F12: 4.5350767 | G12: 58.636421 | H12: 4373.3387 | I12: 4314.4763 | J12: 5149.142 | K12: 19.3457 | L12: 17.739383 | M12: United Arab Emirates | N12: 2
A13: 3 | B13: الهند | C13: 8813 | D13: 10116.567 | E13: 10256.258 | F13: 1.3808134 | G13: 16.376465 | H13: 4278.8869 | I13: 3511.8818 | J13: 3894.009 | K13: 10.880982 | L13: -8.9948122 | M13: India | N13: 3
A14: 4 | B14: الولايات المتحدة الأمريكية | C14: 2401.3019 | D14: 3452.9191 | E14: 5205.9735 | F14: 50.770213 | G14: 116.79796 | H14: 6114.787 | I14: 6855.9884 | J14: 6991.6419 | K14: 1.9786136 | L14: 14.339909 | M14: U.S.A | N14: 4
A15: 5 | B15: اليابان | C15: 8703.1041 | D15: 5961.0128 | E15: 8378.6484 | F15: 40.557465 | G15: -3.7280448 | H15: 3028.4759 | I15: 2720.8015 | J15: 3520.0499 | K15: 29.375477 | L15: 16.231727 | M15: Japan | N15: 5
A16: 6 | B16: كوريا الجنوبية | C16: 8319.9078 | D16: 8517.3363 | E16: 7377.0081 | F16: -13.388321 | G16: -11.333055 | H16: 1955.0395 | I16: 1384.3249 | J16: 1524.7962 | K16: 10.147277 | L16: -22.006887 | M16: South Korea | N16: 6
A17: 7 | B17: مصر | C17: 3512.0476 | D17: 2608.0636 | E17: 4017.3434 | F17: 54.035482 | G17: 14.387497 | H17: 2648.7444 | I17: 1917.1877 | J17: 2208.8122 | K17: 15.21106 | L17: -16.609084 | M17: Egypt | N17: 7
A18: 8 | B18: مملكة البحرين | C18: 2322.7023 | D18: 3102.9125 | E18: 5057.0422 | F18: 62.977274 | G18: 117.72235 | H18: 638.9255 | I18: 956.94616 | J18: 835.63088 | K18: -12.677336 | L18: 30.786904 | M18: Kingdom of Bahrain | N18: 8
A19: 9 | B19: سويسرا | C19: 484.64569 | D19: 648.64732 | E19: 280.53381 | F19: -56.750949 | G19: -42.115691 | H19: 1823.9207 | I19: 1747.3507 | J19: 4059.2717 | K19: 132.31008 | L19: 122.55747 | M19: Switzerland | N19: 9
A20: 10 | B20: فرنسا | C20: 2136.6028 | D20: 2008.6299 | E20: 1731.6283 | F20: -13.790579 | G20: -18.954134 | H20: 1473.8372 | I20: 2387.8959 | J20: 2413.1144 | K20: 1.0560975 | L20: 63.730054 | M20: France | N20: 10
A21: 11 | B21: ألمانيا | C21: 182.06518 | D21: 398.59154 | E21: 254.47794 | F21: -36.15571 | G21: 39.772989 | H21: 3315.1323 | I21: 3201.1821 | J21: 3730.7276 | K21: 16.542187 | L21: 12.536311 | M21: Germany | N21: 11
A22: 12 | B22: سنغافورة | C22: 2689.2141 | D22: 2085.8644 | E22: 3632.8214 | F22: 74.16383 | G22: 35.088591 | H22: 493.35921 | I22: 372.62436 | J22: 292.79836 | K22: -21.422648 | L22: -40.652094 | M22: Singapore | N22: 12
... A107: 97 | B107: لاتفيا | C107: 7.977236 | D107: 0.611536 | E107: 3.287685 | F107: 437.61103 | G107: -58.786665 | H107: 17.033784 | I107: 16.915228 | J107: 13.245571 | K107: -21.694399 | L107: -22.23941 | M107: Latvia | N107: 97
A108: 98 | B108: أروبا | C108: - | D108: - | E108: - | F108: - | G108: - | H108: 1.938932 | I108: 17.801833 | J108: 14.225973 | K108: -20.087033 | L108: 633.70149 | M108: Aruba | N108: 98
A109: 99 | B109: السنغال | C109: 23.556088 | D109: 7.916838 | E109: 12.04328 | F109: 52.12235 | G109: -48.874024 | H109: 0.083508 | I109: 0.327943 | J109: 0.010227 | K109: -96.88147 | L109: -87.753269 | M109: Senegal | N109: 99
A110: 100 | B110: إستونيا | C110: 3.796191 | D110: 1.451461 | E110: 2.973918 | F110: 104.89135 | G110: -21.660475 | H110: 11.310815 | I110: 19.494032 | J110: 9.049395 | K110: -53.578639 | L110: -19.993431 | M110: Estonia | N110: 100
A111: 101 | B111: أوغندا | C111: 8.52072 | D111: 16.405513 | E111: 5.365947 | F111: -67.291806 | G111: -37.024723 | H111: 3.350627 | I111: 8.878678 | J111: 6.607899 | K111: -25.575643 | L111: 97.213805 | M111: Uganda | N111: 101
A112: 102 | B112: جمهورية الدومينيكان | C112: 4.281576 | D112: 259.86076 | E112: 5.387358 | F112: -97.926829 | G112: 25.826518 | H112: 10.363649 | I112: 9.704417 | J112: 6.458548 | K112: -33.447336 | L112: -37.680753 | M112: Dominican Republic | N112: 102
A113: 103 | B113: أوروغواي | C113: 0.279297 | D113: 1.118021 | E113: 0.335475 | F113: -69.993855 | G113: 20.114072 | H113: 5.57646 | I113: 23.724888 | J113: 10.933019 | K113: -53.917511 | L113: 96.05662 | M113: Uruguay | N113: 103
A114: 104 | B114: جواتيمالا | C114: 7.610214 | D114: 10.788391 | E114: 6.211054 | F114: -42.428357 | G114: -18.385291 | H114: 4.297343 | I114: 12.625401 | J114: 4.596398 | K114: -63.594043 | L114: 6.9590675 | M114: Guatemala | N114: 104
A115: 105 | B115: أذربيجان | C115: 7.670759 | D115: 11.607335 | E115: 7.775563 | F115: -33.011643 | G115: 1.3662794 | H115: 1.674165 | I115: 2.013839 | J115: 2.019642 | K115: 0.2881561 | L115: 20.63578 | M115: Azerbaijan | N115: 105
A116: 106 | B116: جورجيا | C116: 1.151189 | D116: 4.825125 | E116: 6.760196 | F116: 40.104059 | G116: 487.23598 | H116: 32.954983 | I116: 7.679867 | J116: 1.877529 | K116: -75.552584 | L116: -94.302746 | M116: Georgia | N116: 106
A117: 107 | B117: أنجولا | C117: 26.155872 | D117: 17.327784 | E117: 8.169468 | F117: -52.85336 | G117: -68.766218 | H117: 0.377046 | I117: 1.367377 | J117: 0.277353 | K117: -79.716421 | L117: -26.44054 | M117: Angola | N117: 107
A118: 108 | B118: موريتانيا | C118: 7.255649 | D118: 12.69868 | E118: 8.00987 | F118: -36.923602 | G118: 10.394949 | H118: 5.8e-05 | I118: 0.00252 | J118: - | K118: - | L118: - | M118: Mauritania | N118: 108
A119: 109 | B119: غيانا | C119: - | D119: - | E119: 7.461271 | F119: - | G119: - | H119: 0.011514 | I119: 0.006666 | J119: 0.039664 | K119: 495.0195 | L119: 244.48497 | M119: Guyana | N119: 109
A120: 110 | B120: ليبيريا | C120: 10.368426 | D120: 8.719588 | E120: 7.158657 | F120: -17.901431 | G120: -30.957148 | H120: - | I120: 0.186871 | J120: 0.002679 | K120: -98.566391 | L120: - | M120: Liberia | N120: 110
A121: 111 | B121: موريشيوس | C121: 157.96068 | D121: 8.005756 | E121: 2.941162 | F121: -63.261908 | G121: -98.138042 | H121: 1.842436 | I121: 1.622977 | J121: 3.379004 | K121: 108.1979 | L121: 83.398718 | M121: Mauritius | N121: 111
A122: 112 | B122: السلفادور | C122: 2.829618 | D122: 1.241588 | E122: 1.730501 | F122: 39.378038 | G122: -38.8433 | H122: 3.926232 | I122: 6.430755 | J122: 4.10756 | K122: -36.126318 | L122: 4.618372 | M122: El Salvador | N122: 112
A123: 113 | B123: زامبيا | C123: 2.262037 | D123: 1.324573 | E123: 0.966794 | F123: -27.010893 | G123: -57.260027 | H123: 61.138554 | I123: 0.280675 | J123: 4.69628 | K123: 1573.2092 | L123: -92.318628 | M123: Zambia | N123: 113
A124: 114 | B124: البوسنة والهرسك | C124: 0.757788 | D124: 0.460512 | E124: 1.048256 | F124: 127.62838 | G124: 38.331037 | H124: 3.5154 | I124: 3.550111 | J124: 4.465908 | K124: 25.796292 | L124: 27.038402 | M124: Bosnia and Herzegovina | N124: 114
A125: 115 | B125: ليختنشتاين | C125: - | D125: - | E125: - | F125: - | G125: - | H125: 2.346692 | I125: 1.828995 | J125: 4.458884 | K125: 143.78875 | L125: 90.00721 | M125: Liechtenstein | N125: 115
...

Sheet 5
A2: الصادرات غير البترولية (تشمل إعادة التصدير) والواردات حسب وسيلة النقل والمنافذ الجمركية، القيمة بالمليون ريال
A3: Non-oil exports (include re-exports) and imports by mode of transport and customs port, value in SAR million
A4: 운송수단별 및 세관항구별 비유류 수출; 재수출 포함
A5: 단위: 백만 사우디리얄
C6: صادرات غير بترولية Non-oil export | H6: واردات Import
C7: 비유류 수출 | H7: 수입
A8: وسيلة النقل | B8: المنافذ الجمركية | C8: أكتوبر Oct | D8: سبتمبر Sep | E8: أكتوبر Oct | F8: التغير على أساس: Change based on: | H8: أكتوبر Oct | I8: سبتمبر Sep | J8: أكتوبر Oct | K8: التغير على أساس: Change based on: | M8: Customs port | N8: Mode
C9: 2024 | D9: 2025* | E9: 2025* | F9: شهري Monthly | G9: سنوي Yearly | H9: 2024 | I9: 2025* | J9: 2025* | K9: شهري Monthly | L9: سنوي Yearly
F10: 전월대비 백분율 변화 | G10: 전년동월대비 백분율 변화 | K10: 전월대비 백분율 변화 | L10: 전년동월대비 백분율 변화
A11: بحري | B11: المجموع | C11: 15529.275 | D11: 17572.121 | E11: 19588.536 | F11: 11.475082 | G11: 26.139415 | H11: 48202.305 | I11: 45655.93 | J11: 44492.464 | K11: -2.5483342 | L11: -7.6963968 | M11: Total | N11: Sea
B12: ميناء الملك عبدالعزيز بالدمام | C12: 2367.7817 | D12: 2547.0173 | E12: 2212.279 | F12: -13.142362 | G12: -6.5674393 | H12: 24382.466 | I12: 20380.267 | J12: 20579.513 | K12: 0.97764158 | L12: -15.597083 | M12: King Abdulaziz Seaport in Dammam
B13: ميناء جدة الإسلامي | C13: 3549.4435 | D13: 3759.5264 | E13: 3768.1826 | F13: 0.23024735 | G13: 6.1626304 | H13: 15424.831 | I13: 16606.474 | J13: 15823.854 | K13: -4.7127364 | L13: 2.5868889 | M13: Jeddah Islamic Seaport
B14: ميناء الجبيل | C14: 1866.5398 | D14: 2425.3009 | E14: 2882.4295 | F14: 18.848325 | G14: 54.426364 | H14: 499.71877 | I14: 864.58796 | J14: 1830.488 | K14: 111.71796 | L14: 266.30363 | M14: Jubail Seaport
B15: ميناء الملك فهد الصناعي بالجبيل | C15: 3775.5525 | D15: 3108.6941 | E15: 3215.1754 | F15: 3.425275 | G15: -14.842253 | H15: 645.75936 | I15: 1052.042 | J15: 854.8868 | K15: -18.740244 | L15: 32.384732 | M15: King Fahad Industrial Seaport in Jubail
B16: ميناء رأس الخير | C16: 1219.3855 | D16: 2584.2126 | E16: 3643.6294 | F16: 40.995728 | G16: 198.80865 | H16: 137.47969 | I16: 163.54585 | J16: 134.59236 | K16: -17.703593 | L16: -2.1001844 | M16: Ras Al Khair Seaport
B17: ميناء رأس تنورة | C17: 598.40232 | D17: 1280.4439 | E17: 2535.831 | F17: 98.043117 | G17: 323.76691 | H17: 1861.7328 | I17: 1382.1152 | J17: 829.11128 | K17: -40.01142 | L17: -55.465615 | M17: Ras Tanura Seaport
B18: ميناء الملك عبدالله | C18: 559.29526 | D18: 564.26076 | E18: 387.41989 | F18: -31.340274 | G18: -30.730704 | H18: 1234.3978 | I18: 1108.4366 | J18: 941.93507 | K18: -15.021298 | L18: -23.692746 | M18: King Abdullah Seaport
B19: ميناء الملك فهد الصناعي بينبع | C19: 368.41248 | D19: 449.74029 | E19: 179.8153 | F19: -60.017968 | G19: -51.191853 | H19: 1076.4073 | I19: 923.61469 | J19: 479.27813 | K19: -48.108434 | L19: -55.474276 | M19: King Fahd Industrial Seaport in Yanbu
B20: ميناء ضباء | C20: 281.15292 | D20: 237.90665 | E20: 219.13932 | F20: -7.8885252 | G20: -22.056891 | H20: 743.02558 | I20: 985.27732 | J20: 440.30955 | K20: -55.311105 | L20: -40.740997 | M20: Deba Seaport
B21: ميناء بيش | F21: - | G21: - | H21: 1079.4024 | I21: 671.99909 | J21: 737.83416 | K21: 9.7969002 | L21: -31.6442 | M21: Baish Seaport
B22: ميناء ينبع التجاري | C22: 181.73812 | D22: 281.65101 | E22: 240.94215 | F22: -14.453653 | G22: 32.576561 | H22: 399.30109 | I22: 640.44985 | J22: 738.86138 | K22: 15.366 | L22: 85.038658 | M22: Yanbu Commercial Seaport
B23: ميناء رابغ | C23: 544.30349 | D23: 333.36715 | E23: 286.0822 | F23: -14.184047 | G23: -47.440683 | H23: 399.6461 | I23: 598.45505 | J23: 589.27745 | K23: -1.5335488 | L23: 47.449821 | M23: Rabigh Seaport
B24: ميناء جازان | C24: 151.64229 | D24: 0 | E24: 17.610538 | F24: - | G24: -88.38679 | H24: 318.13661 | I24: 278.6658 | J24: 512.52306 | K24: 83.920332 | L24: 61.101568 | M24: Jazan Seaport
B25: ميناء الخفجي | C25: 65.625 | D25: 0 | E25: 0 | F25: - | G25: -100 | K25: - | L25: - | M25: Al Khafji Seaport
A26: بري | B26: المجموع | C26: 5205.3941 | D26: 5880.4879 | E26: 5888.2544 | F26: 0.1320711 | G26: 13.118321 | H26: 9178.2962 | I26: 8260.5455 | J26: 8335.1117 | K26: 0.90267822 | L26: -9.1867216 | M26: Total | N26: Land
B27: منفذ البطحاء | C27: 1914.363 | D27: 2242.9977 | E27: 2209.6863 | F27: -1.4851287 | G27: 15.426712 | H27: 3850.52 | I27: 3597.9806 | J27: 3752.6514 | K27: 4.2988217 | L27: -2.541698 | M27: Al Bat'ha Port
B28: الرياض (الميناء الجاف) | C28: 13.50762 | D28: 0.194948 | E28: 0.580094 | F28: 197.56345 | G28: -95.705431 | H28: 3082.207 | I28: 2108.6046 | J28: 2139.2245 | K28: 1.4521373 | L28: -30.594392 | M28: Riyadh (Dry Port)
B29: منفذ الحديثة | C29: 735.60397 | D29: 903.65083 | E29: 908.16779 | F29: 0.49985678 | G29: 23.458795 | H29: 548.86089 | I29: 580.81287 | J29: 507.29246 | K29: -12.658192 | L29: -7.5735824 | M29: Al Hadithah Port
B30: جسر الملك فهد | C30: 375.78759 | D30: 389.84631 | E30: 359.72083 | F30: -7.7275277 | G30: -4.27549 | H30: 750.6859 | I30: 837.1789 | J30: 822.93825 | K30: -1.7010279 | L30: 9.6248449 | M30: King Fahad Bridge
B31: منفذ سلوى | C31: 258.30927 | D31: 388.24534 | E31: 384.12892 | F31: -1.0602636 | G31: 48.708918 | H31: 246.22701 | I31: 369.48381 | J31: 290.25572 | K31: -21.442912 | L31: 17.88135 | M31: Salwa Port
B32: منفذ الربع الخالي | C32: 333.27929 | D32: 329.4682 | E32: 336.43485 | F32: 2.1145136 | G32: 0.94682091 | H32: 313.99757 | I32: 343.48058 | J32: 381.69209 | K32: 11.124797 | L32: 21.558931 | M32: Rub' Al Khali Port
B33: منفذ الخفجي | C33: 355.2633 | D33: 357.64973 | E33: 373.6112 | F33: 4.4628757 | G33: 5.1645903 | H33: 184.027 | I33: 214.31552 | J33: 207.24989 | K33: -3.2968373 | L33: 12.619284 | M33: Al Khafji Port
B34: منفذ الوديعة | C34: 436.94463 | D34: 472.5717 | E34: 497.22496 | F34: 5.2168313 | G34: 13.795874 | H34: 51.975777 | I34: 39.689644 | J34: 42.022217 | K34: 5.8770318 | L34: -19.150382 | M34: Al Wadiah Port
B35: منفذ الرقعي | C35: 400.14191 | D35: 392.60297 | E35: 376.69767 | F35: -4.0512429 | G35: -5.8589797 | H35: 86.981098 | I35: 105.90187 | J35: 139.34179 | K35: 31.576324 | L35: 60.197781 | M35: Al Raqa'i Port
B36: منفذ جديدة عرعر | C36: 258.19802 | D36: 235.4448 | E36: 219.86179 | F36: -6.6185391 | G36: -14.847607 | H36: 0.834955 | I36: 3.767187 | J36: 2.538814 | K36: -32.607168 | L36: 204.06597 | M36: Judayyidah Ar'ar Port
B37: منفذ الدرة | C37: 64.120388 | D37: 89.450963 | E37: 138.19731 | F37: 54.495053 | G37: 115.52788 | H37: 12.64807 | I37: 12.276387 | J37: 9.664677 | K37: -21.274256 | L37: -23.587733 | M37: Al Durra Port
B38: منفذ حالة عمار | C38: 59.875092 | D38: 78.364473 | E38: 83.942676 | F38: 7.1182805 | G38: 40.196321 | H38: 49.330989 | I38: 47.053516 | J38: 40.23991 | K38: -14.480546 | L38: -18.428739 | M38: Halat Ammar Port
A39: جوي | B39: المجموع | C39: 4881.433 | D39: 9035.4066 | E39: 8405.3581 | F39: -6.9731059 | G39: 72.190381 | H39: 19421.39 | I39: 23473.962 | J39: 27251.067 | K39: 16.09062 | L39: 40.314711 | M39: Total | N39: Air
B40: مطار الملك خالد الدولي بالرياض | C40: 2379.1753 | D40: 2908.3959 | E40: 3421.2867 | F40: 17.634837 | G40: 43.801376 | H40: 9703.072 | I40: 11038.814 | J40: 11991.867 | K40: 8.6336548 | L40: 23.588357 | M40: King Khalid International Airport in Riyadh
B41: مطار الملك عبدالعزيز الدولي بجدة | C41: 2238.3341 | D41: 5488.3156 | E41: 4605.5071 | F41: -16.085236 | G41: 105.75602 | H41: 4941.9407 | I41: 8263.9084 | J41: 10388.928 | K41: 25.714456 | L41: 110.21959 | M41: King Abdulaziz International Airport
...

Sheet 6.1
A2: الصادرات غير البترولية (تشمل إعادة التصدير) حسب الدول والأقسام الرئيسة في شهر أكتوبر 2025*م، القيمة بالمليون ريال
A3: Non-oil exports (include re-exports) by main section in October 2025*, value in SAR million
A4: 주부문별 비유류 수출; 재수출 포함
A5: 단위: 백만 사우디리얄
A6: الدولة | B6: Country | D6: 01 | E6: 02 | F6: 03 | G6: 04 | H6: 05 | I6: 06 | J6: 07 | K6: 08 | L6: 09 | M6: 10 | N6: 11 | O6: 12 | P6: 13 | Q6: 14 | R6: 15 | S6: 16 | T6: 17 | U6: 18 | V6: 19 | W6: 20 | X6: 21
C7: الإجمالي | D7: الحيوانات ومنتجاتها | E7: منتجات نباتية | F7: دهون وزيوت وشموع حيوانية أو نباتية ومنتجاتها | G7: منتجات صناعة الأغذية، مشروبات وتبغ | H7: المنتجات المعدنية | I7: منتجات الصناعات الكيماوية | J7: لدائن ومطاط ومصنوعاتها | K7: صلال وجلود ومصنوعاتها، حقائب وما يماثلها | L7: خشب وفلين ومواد ضفر ومصنوعاتها | M7: ورق وورق مقوى ومصنوعاتهما | N7: مواد نسجية ومصنوعاتها | O7: أحذية، أغطية رأس، مظلات وعصي | P7: مصنوعات من حجر، جص، إسمنت، خزف، زجاج | Q7: أحجار أو معادن ثمينة ومصنوعاتها، مجوهرات | R7: معادن عادية ومصنوعاتها | S7: آلات وأجهزة آلية ومعدات كهربائية وأجزاؤها | T7: عربات، طائرات، بواخر، ومعدات نقل مماثلة | U7: أدوات وأجهزة للبصريات أو للتصوير أو للقياس أو للفحص أو للطب، الساعات والأدوات الموسيقية | V7: أسلحة وذخائر، أجزاؤها ولوازمها | W7: أصناف مصنوعات متنوعة | X7: تحف فنية وقطع أثرية
C8: Total | D8: Animals and their products | E8: Plant Products | F8: Animal and vegetable fats, oils, waxex and their products | G8: Prepared foodstuffs, beverages and tobacco | H8: Mineral products | I8: Products of the chemical industries | J8: Plastics, rubber and their articles | K8: Skins, leather and their articles, handbags and similar | L8: Wood, cork, plaiting materials and their articles | M8: Paper, paperboard and their articles | N8: Textiles and their articles | O8: Footwear, headgear, umbrellas, sticks | P8: Articles of stone, plaster, cement, ceramic, glass | Q8: Precious stones or metals and their articles, jewelry | R8: Base metals and their articles | S8: Machinery and mechanical appliances, electrical equipment, parts thereof | T8: Vehicles, alrcraft, vessels and associated transport equipment | U8: Optical, photographic, measuring, checking, medical instruments and apparatus; clocks and musical Instruments | V8: Arms and ammunition; parts and accessories thereof | W8: Miscellaneous manufactured articles | X8: Works of arts and antiqes
C9: 전체 | D9: 동물 및 관련 제품 | E9: 식물성 제품 | F9: 동물성 및 식물성 지방, 오일, 왁스 및 관련 제품 | G9: 조리 식품, 음료 및 담배 | H9: 광물 제품 | I9: 화학 공업 제품 | J9: 플라스틱, 고무 및 관련 제품 | K9: 피혁 및 관련 제품, 핸드백 및 유사 제품 | L9: 목재, 코르크, 조물재 및 관련 제품 | M9: 종이, 판지 및 관련 제품 | N9: 직물 및 관련 제품 | O9: 신발, 모자, 우산 및 지팡이 | P9: 석재, 석고, 시멘트, 세라믹 및 유리 제품 | Q9: 보석 또는 금속 및 관련 제품, 장신구 | R9: 비금속 및 관련 제품 | S9: 기계 및 기계 기구, 전기 장비 및 관련 제품 | T9: 차량, 선박 및 관련 운송 장비 | U9: 광학, 사진, 계측, 검사, 의료기기 및 장치; 시계 및 악기 | V9: 무기 및 탄약; 관련 부품 및 부속품 | W9: 기타 제조품 | X9: 예술품 및 골동품
A10: الإمارات العربية المتحدة | B10: United Arab Emirates | C10: 10516.162 | D10: 221.63802 | E10: 113.26399 | F10: 12.51802 | G10: 177.15392 | H10: 19.544655 | I10: 371.93831 | J10: 314.82067 | K10: 8.394392 | L10: 3.898856 | M10: 24.618513 | N10: 65.872646 | O10: 6.416019 | P10: 54.509098 | Q10: 565.87803 | R10: 366.88555 | S10: 5944.429 | T10: 2074.3528 | U10: 55.910905 | V10: 0.000106 | W10: 33.355236 | X10: 80.763374
A11: الهند | B11: India | C11: 3166.8251 | D11: 0 | E11: 14.345451 | F11: 1.379298 | G11: 2.663026 | H11: 19.289955 | I11: 1703.4325 | J11: 436.08327 | K11: 1.906838 | L11: 0 | M11: 10.278584 | N11: 1.546517 | O11: 0 | P11: 1.766344 | Q11: 526.82992 | R11: 438.81164 | S11: 4.261426 | T11: 0.667955 | U11: 0.901413 | V11: 0 | W11: 0.387694 | X11: 2.273277
A12: مملكة البحرين | B12: Kingdom of Bahrain | C12: 2370.7794 | D12: 58.268251 | E12: 13.146897 | F12: 7.912234 | G12: 45.266402 | H12: 14.780541 | I12: 40.112818 | J12: 31.680264 | K12: 0.074137 | L12: 2.647072 | M12: 8.288129 | N12: 8.817875 | O12: 0.570281 | P12: 13.940625 | Q12: 1.551698 | R12: 67.685115 | S12: 52.184001 | T12: 1964.7438 | U12: 30.13002 | V12: 0 | W12: 5.958073 | X12: 3.021216
A13: الصين | B13: China | C13: 2272.9235 | D13: 28.609384 | E13: 9.049371 | F13: 0.055813 | G13: 0.266723 | H13: 216.72523 | I13: 793.66271 | J13: 920.21786 | K13: 2.238389 | L13: 0 | M13: 0.048984 | N13: 7.474498 | O13: 0.018938 | P13: 2.089718 | Q13: 7.003349 | R13: 231.73774 | S13: 43.827583 | T13: 9.393951 | U13: 0.428629 | V13: 0 | W13: 0.049891 | X13: 0.024699
A14: سنغافورة | B14: Singapore | C14: 1171.2561 | D14: 0.603417 | E14: 1.163026 | F14: 0 | G14: 2.983188 | H14: 1.000433 | I14: 154.22944 | J14: 361.54662 | K14: 0 | L14: 0 | M14: 0.002441 | N14: 0 | O14: 0 | P14: 0 | Q14: 14.42282 | R14: 4.420246 | S14: 3.791858 | T14: 588.90594 | U14: 38.186423 | V14: 0 | W14: 0 | X14: 0.000202
A15: تركيا | B15: Turkey | C15: 879.70313 | D15: 4.536708 | E15: 16.419081 | F15: 0 | G15: 0.483116 | H15: 0.046072 | I15: 283.93944 | J15: 523.47541 | K15: 0.631358 | L15: 0.008473 | M15: 0.415022 | N15: 5.712909 | O15: 0 | P15: 0.370034 | Q15: 0 | R15: 3.735298 | S15: 33.433768 | T15: 1.000341 | U15: 4.844047 | V15: 0 | W15: 0.614668 | X15: 0.03739
A16: مصر | B16: Egypt | C16: 863.17872 | D16: 15.239581 | E16: 13.81098 | F16: 0.56109 | G16: 19.050473 | H16: 15.567571 | I16: 102.17642 | J16: 486.44293 | K16: 0.448913 | L16: 0.616284 | M16: 22.322785 | N16: 6.119567 | O16: 0.030613 | P16: 11.452623 | Q16: 0 | R16: 115.62713 | S16: 28.414068 | T16: 16.69534 | U16: 6.907556 | V16: 0 | W16: 0.435944 | X16: 1.258848
A17: الأردن | B17: Jordan | C17: 803.12233 | D17: 46.684953 | E17: 27.531761 | F17: 15.128249 | G17: 134.72425 | H17: 18.061602 | I17: 103.82459 | J17: 200.61339 | K17: 0 | L17: 1.785148 | M17: 24.086342 | N17: 6.732839 | O17: 8.7e-05 | P17: 35.568085 | Q17: 9.616423 | R17: 67.431014 | S17: 88.545793 | T17: 15.900197 | U17: 0.618293 | V17: 0 | W17: 6.037213 | X17: 0.232094
A18: دولة الكويت | B18: State of Kuwait | C18: 726.61744 | D18: 126.33875 | E18: 32.053336 | F18: 11.719995 | G18: 93.3281 | H18: 18.530702 | I18: 113.40295 | J18: 46.866263 | K18: 0.062718 | L18: 4.801435 | M18: 17.159818 | N18: 8.475829 | O18: 1.375114 | P18: 29.902427 | Q18: 6.918672 | R18: 103.82436 | S18: 73.181737 | T18: 11.462768 | U18: 11.997205 | V18: 0 | W18: 14.706994 | X18: 0.508264
A19: فرنسا | B19: France | C19: 671.41326 | D19: 0 | E19: 1.377181 | F19: 0 | G19: 0 | H19: 0 | I19: 2.700359 | J19: 4.313499 | K19: 0.092415 | L19: 0.071 | M19: 0.001865 | N19: 1.324702 | O19: 0.358265 | P19: 0.052471 | Q19: 6.166511 | R19: 13.472747 | S19: 535.61274 | T19: 9.833991 | U19: 3.538166 | V19: 90 | W19: 1.320869 | X19: 1.176473
A20: الولايات المتحدة الأمريكية | B20: U.S.A | C20: 651.62525 | D20: 0.501343 | E20: 4.574552 | F20: 0 | G20: 2.826356 | H20: 7.568494 | I20: 149.40292 | J20: 54.564058 | K20: 0.001453 | L20: 0.00156 | M20: 1.597436 | N20: 16.082729 | O20: 0.0007 | P20: 6.184061 | Q20: 0.036689 | R20: 108.3127 | S20: 208.24667 | T20: 66.600034 | U20: 7.8468 | V20: 16.921172 | W20: 0.130904 | X20: 0.22462
A21: الجمهورية اليمنية | B21: Republic of Yemen | C21: 552.20148 | D21: 29.285253 | E21: 22.241995 | F21: 1.635873 | G21: 111.27213 | H21: 8.525617 | I21: 28.497757 | J21: 206.55047 | K21: 0.01523 | L21: 19.231751 | M21: 9.726734 | N21: 18.181566 | O21: 2.134449 | P21: 22.853981 | Q21: 1.293261 | R21: 17.557977 | S21: 25.529097 | T21: 4.713836 | U21: 2.872492 | V21: 0 | W21: 19.457409 | X21: 0.6246
... A148: دول أخرى (القيمة أقل من 0.5 | B148: Other countries (value <0.5) | C148: 2.363334 | D148: 0.201277 | E148: 0.238054 | F148: 0 | G148: 0.771125 | H148: 0 | I148: 0 | J148: 0.610945 | K148: 0 | L148: 0 | M148: 0.002834 | N148: 0.0173 | O148: 0 | P148: 0.17168 | Q148: 0 | R148: 0.07605 | S148: 0.072305 | T148: 0.00256 | U148: 0 | V148: 0 | W148: 0.05659 | X148: 0.142614
A149: (*) بيانات أولية | X149: (*) Preliminary data
X150: (*) 잠정치

Sheet 6.2
A2: الواردات حسب الدول والأقسام الرئيسة في شهر أكتوبر 2025*م، القيمة بالمليون ريال
A3: Imports by main section in October 2025*, value in SAR million
A4: 주부문별 수입
A5: 단위: 백만 사우디리얄
A6: الدولة | B6: Country | D6: 01 | E6: 02 | F6: 03 | G6: 04 | H6: 05 | I6: 06 | J6: 07 | K6: 08 | L6: 09 | M6: 10 | N6: 11 | O6: 12 | P6: 13 | Q6: 14 | R6: 15 | S6: 16 | T6: 17 | U6: 18 | V6: 19 | W6: 20 | X6: 21
